BEGIN:VCALENDAR
VERSION:2.0
PRODID:-// Montana Chess Association - ECPv6.15.20//NONSGML v1.0//EN
CALSCALE:GREGORIAN
METHOD:PUBLISH
X-ORIGINAL-URL:https://www.montanachess.org
X-WR-CALDESC:Events for  Montana Chess Association
REFRESH-INTERVAL;VALUE=DURATION:PT1H
X-Robots-Tag:noindex
X-PUBLISHED-TTL:PT1H
BEGIN:VTIMEZONE
TZID:America/Denver
BEGIN:DAYLIGHT
TZOFFSETFROM:-0700
TZOFFSETTO:-0600
TZNAME:MDT
DTSTART:20250309T090000
END:DAYLIGHT
BEGIN:STANDARD
TZOFFSETFROM:-0600
TZOFFSETTO:-0700
TZNAME:MST
DTSTART:20251102T080000
END:STANDARD
BEGIN:DAYLIGHT
TZOFFSETFROM:-0700
TZOFFSETTO:-0600
TZNAME:MDT
DTSTART:20260308T090000
END:DAYLIGHT
BEGIN:STANDARD
TZOFFSETFROM:-0600
TZOFFSETTO:-0700
TZNAME:MST
DTSTART:20261101T080000
END:STANDARD
BEGIN:DAYLIGHT
TZOFFSETFROM:-0700
TZOFFSETTO:-0600
TZNAME:MDT
DTSTART:20270314T090000
END:DAYLIGHT
BEGIN:STANDARD
TZOFFSETFROM:-0600
TZOFFSETTO:-0700
TZNAME:MST
DTSTART:20271107T080000
END:STANDARD
END:VTIMEZONE
BEGIN:VEVENT
DTSTART;TZID=America/Denver:20260418T000000
DTEND;TZID=America/Denver:20260419T235959
DTSTAMP:20260422T201553
CREATED:20260205T202325Z
LAST-MODIFIED:20260310T174734Z
UID:8284-1776470400-1776643199@www.montanachess.org
SUMMARY:91st Annual Montana Open — Bozeman > — Rated — < > — MCA Grand Prix —
DESCRIPTION:Limited to 48 players so register early !\nTournament Info\nThe tournament room block is available at $159 / night plus tax. Can cancel up to 24 hours prior to arrival. The hotel also offers pre-paid\, non cancelable rates which are often significantly lower if you are willing to commit. See pdf for details.
URL:https://www.montanachess.org/event/91st-annual-montana-open-bozeman-rated-mca-grand-prix/
END:VEVENT
END:VCALENDAR